BEGIN:VCALENDAR
VERSION:2.0
PRODID:-//Provident - ECPv6.15.20//NONSGML v1.0//EN
CALSCALE:GREGORIAN
METHOD:PUBLISH
X-WR-CALNAME:Provident
X-ORIGINAL-URL:https://www.providentins.com
X-WR-CALDESC:Events for Provident
REFRESH-INTERVAL;VALUE=DURATION:PT1H
X-Robots-Tag:noindex
X-PUBLISHED-TTL:PT1H
BEGIN:VTIMEZONE
TZID:America/Chicago
BEGIN:DAYLIGHT
TZOFFSETFROM:-0600
TZOFFSETTO:-0500
TZNAME:CDT
DTSTART:20230312T080000
END:DAYLIGHT
BEGIN:STANDARD
TZOFFSETFROM:-0500
TZOFFSETTO:-0600
TZNAME:CST
DTSTART:20231105T070000
END:STANDARD
BEGIN:DAYLIGHT
TZOFFSETFROM:-0600
TZOFFSETTO:-0500
TZNAME:CDT
DTSTART:20240310T080000
END:DAYLIGHT
BEGIN:STANDARD
TZOFFSETFROM:-0500
TZOFFSETTO:-0600
TZNAME:CST
DTSTART:20241103T070000
END:STANDARD
BEGIN:DAYLIGHT
TZOFFSETFROM:-0600
TZOFFSETTO:-0500
TZNAME:CDT
DTSTART:20250309T080000
END:DAYLIGHT
BEGIN:STANDARD
TZOFFSETFROM:-0500
TZOFFSETTO:-0600
TZNAME:CST
DTSTART:20251102T070000
END:STANDARD
END:VTIMEZONE
BEGIN:VEVENT
DTSTART;TZID=America/Chicago:20240606T190000
DTEND;TZID=America/Chicago:20240606T200000
DTSTAMP:20260425T184440
CREATED:20240308T150328Z
LAST-MODIFIED:20240308T150328Z
UID:10000024-1717700400-1717704000@www.providentins.com
SUMMARY:First Responder Nutrition
DESCRIPTION:Learn from Joe Bonanno\, a FDNY veteran firefighter\, graduate award winning chef\, fitness trainer/nutritionist\, and author on how to eat\, what to eat\, and when to eat for maximum firefighter performance on the fireground\, post-fire\, off-duty\, and eventually a healthier retirement. Don’t miss this webinar to get Joe’s easy to follow\, doable routine in three simple steps. \nLearn more about Joe at AmericanFirehouseCuisine.com \n**All live attendees will receive a Certificate of Attendance from Provident**
URL:https://www.providentins.com/webinars/first-responder-nutrition/
LOCATION:Virtual Webinar
CATEGORIES:Webinars
ORGANIZER;CN="Provident":MAILTO:info@providentins.com
END:VEVENT
END:VCALENDAR