BEGIN:VCALENDAR
VERSION:2.0
PRODID:-//Provident - ECPv6.15.20//NONSGML v1.0//EN
CALSCALE:GREGORIAN
METHOD:PUBLISH
X-WR-CALNAME:Provident
X-ORIGINAL-URL:https://www.providentins.com
X-WR-CALDESC:Events for Provident
REFRESH-INTERVAL;VALUE=DURATION:PT1H
X-Robots-Tag:noindex
X-PUBLISHED-TTL:PT1H
BEGIN:VTIMEZONE
TZID:America/New_York
BEGIN:DAYLIGHT
TZOFFSETFROM:-0500
TZOFFSETTO:-0400
TZNAME:EDT
DTSTART:20230312T070000
END:DAYLIGHT
BEGIN:STANDARD
TZOFFSETFROM:-0400
TZOFFSETTO:-0500
TZNAME:EST
DTSTART:20231105T060000
END:STANDARD
BEGIN:DAYLIGHT
TZOFFSETFROM:-0500
TZOFFSETTO:-0400
TZNAME:EDT
DTSTART:20240310T070000
END:DAYLIGHT
BEGIN:STANDARD
TZOFFSETFROM:-0400
TZOFFSETTO:-0500
TZNAME:EST
DTSTART:20241103T060000
END:STANDARD
BEGIN:DAYLIGHT
TZOFFSETFROM:-0500
TZOFFSETTO:-0400
TZNAME:EDT
DTSTART:20250309T070000
END:DAYLIGHT
BEGIN:STANDARD
TZOFFSETFROM:-0400
TZOFFSETTO:-0500
TZNAME:EST
DTSTART:20251102T060000
END:STANDARD
END:VTIMEZONE
BEGIN:VEVENT
DTSTART;VALUE=DATE:20240814
DTEND;VALUE=DATE:20240817
DTSTAMP:20260425T152641
CREATED:20240606T134742Z
LAST-MODIFIED:20240606T134742Z
UID:10000026-1723593600-1723852799@www.providentins.com
SUMMARY:Fire-Rescue International 2024
DESCRIPTION:
URL:https://www.providentins.com/webinars/fire-rescue-international-2024/
LOCATION:Kay Bailey Hutchison Convention Center Dallas\, TX\, 650 S Griffin St\, Dallas\, TX\, 75202\, United States
CATEGORIES:Trade Shows
ATTACH;FMTTYPE=image/png:https://www.providentins.com/wp-content/uploads/2024/06/download.png
END:VEVENT
BEGIN:VEVENT
DTSTART;TZID=America/New_York:20240827T190000
DTEND;TZID=America/New_York:20240827T200000
DTSTAMP:20260425T152641
CREATED:20240716T163901Z
LAST-MODIFIED:20240716T164113Z
UID:10000028-1724785200-1724788800@www.providentins.com
SUMMARY:First Responder Specific Exercise and Post-Incident Recovery
DESCRIPTION:Firefighting requires specific physical training for peak performance on the fireground and proper recovery after to reduce physical stress and increase longevity. You’ll learn basic anatomy and physiology with job specific training to enhance performance both on the job\, at home\, and eventually a long\, healthy retirement! \nPresented by Joe Bonanno\, a FDNY veteran firefighter\, graduate award-winning chef\, fitness trainer/nutritionist\, and author. Learn more about Joe at AmericanFirehouseCuisine.com. \n**All live attendees will receive a Certificate of Attendance from Provident**
URL:https://www.providentins.com/webinars/first-responder-exercise-and-post-incident-recovery/
LOCATION:Virtual Webinar
CATEGORIES:Webinars
ORGANIZER;CN="Provident":MAILTO:info@providentins.com
END:VEVENT
END:VCALENDAR