BEGIN:VCALENDAR
VERSION:2.0
PRODID:-//Provident - ECPv6.15.20//NONSGML v1.0//EN
CALSCALE:GREGORIAN
METHOD:PUBLISH
X-ORIGINAL-URL:https://www.providentins.com
X-WR-CALDESC:Events for Provident
REFRESH-INTERVAL;VALUE=DURATION:PT1H
X-Robots-Tag:noindex
X-PUBLISHED-TTL:PT1H
BEGIN:VTIMEZONE
TZID:America/New_York
BEGIN:DAYLIGHT
TZOFFSETFROM:-0500
TZOFFSETTO:-0400
TZNAME:EDT
DTSTART:20230312T070000
END:DAYLIGHT
BEGIN:STANDARD
TZOFFSETFROM:-0400
TZOFFSETTO:-0500
TZNAME:EST
DTSTART:20231105T060000
END:STANDARD
BEGIN:DAYLIGHT
TZOFFSETFROM:-0500
TZOFFSETTO:-0400
TZNAME:EDT
DTSTART:20240310T070000
END:DAYLIGHT
BEGIN:STANDARD
TZOFFSETFROM:-0400
TZOFFSETTO:-0500
TZNAME:EST
DTSTART:20241103T060000
END:STANDARD
BEGIN:DAYLIGHT
TZOFFSETFROM:-0500
TZOFFSETTO:-0400
TZNAME:EDT
DTSTART:20250309T070000
END:DAYLIGHT
BEGIN:STANDARD
TZOFFSETFROM:-0400
TZOFFSETTO:-0500
TZNAME:EST
DTSTART:20251102T060000
END:STANDARD
END:VTIMEZONE
BEGIN:VEVENT
DTSTART;TZID=America/New_York:20241029T190000
DTEND;TZID=America/New_York:20241029T200000
DTSTAMP:20260425T120125
CREATED:20240809T154619Z
LAST-MODIFIED:20240809T154619Z
UID:10000029-1730228400-1730232000@www.providentins.com
SUMMARY:Family Survivors Affected by First Responder Suicide
DESCRIPTION:Join Chief Ed Mann\, Director of Training and Education at Provident\, as he leads a roundtable discussion on first responder suicide with Abigail Tidwell (Counselor at BHS)\, Amanda Gilliland\, and Joe Bonanno (a FDNY veteran firefighter\, fitness trainer/nutritionist\, and author). \n**All live attendees will receive a Certificate of Attendance from Provident**
URL:https://www.providentins.com/webinars/family-survivors-affected/
LOCATION:Virtual Webinar
CATEGORIES:Webinars
ORGANIZER;CN="Provident":MAILTO:info@providentins.com
END:VEVENT
END:VCALENDAR