BEGIN:VCALENDAR
VERSION:2.0
PRODID:-//Provident - ECPv6.15.20//NONSGML v1.0//EN
CALSCALE:GREGORIAN
METHOD:PUBLISH
X-ORIGINAL-URL:https://www.providentins.com
X-WR-CALDESC:Events for Provident
REFRESH-INTERVAL;VALUE=DURATION:PT1H
X-Robots-Tag:noindex
X-PUBLISHED-TTL:PT1H
BEGIN:VTIMEZONE
TZID:America/New_York
BEGIN:DAYLIGHT
TZOFFSETFROM:-0500
TZOFFSETTO:-0400
TZNAME:EDT
DTSTART:20230312T070000
END:DAYLIGHT
BEGIN:STANDARD
TZOFFSETFROM:-0400
TZOFFSETTO:-0500
TZNAME:EST
DTSTART:20231105T060000
END:STANDARD
BEGIN:DAYLIGHT
TZOFFSETFROM:-0500
TZOFFSETTO:-0400
TZNAME:EDT
DTSTART:20240310T070000
END:DAYLIGHT
BEGIN:STANDARD
TZOFFSETFROM:-0400
TZOFFSETTO:-0500
TZNAME:EST
DTSTART:20241103T060000
END:STANDARD
BEGIN:DAYLIGHT
TZOFFSETFROM:-0500
TZOFFSETTO:-0400
TZNAME:EDT
DTSTART:20250309T070000
END:DAYLIGHT
BEGIN:STANDARD
TZOFFSETFROM:-0400
TZOFFSETTO:-0500
TZNAME:EST
DTSTART:20251102T060000
END:STANDARD
END:VTIMEZONE
BEGIN:VEVENT
DTSTART;TZID=America/New_York:20241216T190000
DTEND;TZID=America/New_York:20241216T200000
DTSTAMP:20260425T085503
CREATED:20241028T161244Z
LAST-MODIFIED:20241028T161402Z
UID:10000030-1734375600-1734379200@www.providentins.com
SUMMARY:Navigating Current & Emerging Challenges in the Fire Service
DESCRIPTION:This engaging webinar will discuss the most pressing operational challenges facing the fire service today\, both on and off the fireground. Topics include firefighting tactics\, soft skill leadership\, recruitment\, the firefighter “blind side\,” and technological advancements. \nWe will be joined by Chief Frank Leeb who recently retired from the FDNY after more than 31 years serving in New York City. Frank is now the Managing Director of the First Responder Center for Excellence (FRCE) and will provide actionable insights on the latest best practices\, emerging health concerns\, and strategies and tactics shaping the future of firefighting. \n**All live attendees will receive a Certificate of Attendance from Provident**
URL:https://www.providentins.com/webinars/navigating-current-emerging-challenges-in-the-fire-servicenavigating-current-emerging-challenges-in-the-fire-service/
LOCATION:Virtual Webinar
CATEGORIES:Webinars
ORGANIZER;CN="Provident":MAILTO:info@providentins.com
END:VEVENT
END:VCALENDAR