BEGIN:VCALENDAR
VERSION:2.0
PRODID:-//Provident - ECPv6.15.20//NONSGML v1.0//EN
CALSCALE:GREGORIAN
METHOD:PUBLISH
X-WR-CALNAME:Provident
X-ORIGINAL-URL:https://www.providentins.com
X-WR-CALDESC:Events for Provident
REFRESH-INTERVAL;VALUE=DURATION:PT1H
X-Robots-Tag:noindex
X-PUBLISHED-TTL:PT1H
BEGIN:VTIMEZONE
TZID:America/New_York
BEGIN:DAYLIGHT
TZOFFSETFROM:-0500
TZOFFSETTO:-0400
TZNAME:EDT
DTSTART:20240310T070000
END:DAYLIGHT
BEGIN:STANDARD
TZOFFSETFROM:-0400
TZOFFSETTO:-0500
TZNAME:EST
DTSTART:20241103T060000
END:STANDARD
BEGIN:DAYLIGHT
TZOFFSETFROM:-0500
TZOFFSETTO:-0400
TZNAME:EDT
DTSTART:20250309T070000
END:DAYLIGHT
BEGIN:STANDARD
TZOFFSETFROM:-0400
TZOFFSETTO:-0500
TZNAME:EST
DTSTART:20251102T060000
END:STANDARD
BEGIN:DAYLIGHT
TZOFFSETFROM:-0500
TZOFFSETTO:-0400
TZNAME:EDT
DTSTART:20260308T070000
END:DAYLIGHT
BEGIN:STANDARD
TZOFFSETFROM:-0400
TZOFFSETTO:-0500
TZNAME:EST
DTSTART:20261101T060000
END:STANDARD
END:VTIMEZONE
BEGIN:VEVENT
DTSTART;VALUE=DATE:20250408
DTEND;VALUE=DATE:20250413
DTSTAMP:20260425T085347
CREATED:20250115T174617Z
LAST-MODIFIED:20250115T175045Z
UID:10000032-1744070400-1744502399@www.providentins.com
SUMMARY:FDIC 2025
DESCRIPTION:
URL:https://www.providentins.com/webinars/fdic2025/
LOCATION:Indiana Convention Center & Lucas Oil Stadium\, 100 S Capitol Ave\, Indianapolis\, IN\, 46225\, United States
CATEGORIES:Trade Shows
ATTACH;FMTTYPE=image/jpeg:https://www.providentins.com/wp-content/uploads/2025/01/Screenshot-2025-01-15-124539.jpg
END:VEVENT
BEGIN:VEVENT
DTSTART;TZID=America/New_York:20250428T190000
DTEND;TZID=America/New_York:20250428T200000
DTSTAMP:20260425T085347
CREATED:20250401T194629Z
LAST-MODIFIED:20250401T194629Z
UID:10000040-1745866800-1745870400@www.providentins.com
SUMMARY:Global Assistance Services for First Responders
DESCRIPTION:Traveling soon? Ensure a worry-free trip via the travel assistance services through On Call International. This service is provided with Provident’s 24-Hour Accidental Death & Dismemberment policy. Whether your department has this policy yet or not\, this webinar will guide you through the importance of this valuable benefit and how you can utilize it\, providing support for pre-trip preparation and on-the-go assistance. \nYou’ll learn how to: \n-Address pre-travel health inquiries with On Call. \n-Clearly understand your plan’s coverage and available services. \n-Access the On Call Global Response Center from anywhere in the world for assistance with travel emergencies. \n-Differentiate between local emergency services and On Call’s role. \n-Utilize alternative communication methods when international phone calls are challenging. \nThis session\, led by Jessica Borden\, Account Manager at On Call International\, will equip you with the knowledge to confidently navigate your travels\, knowing you have support anywhere in the world. \n**All live attendees will receive a Certificate of Attendance from Provident**
URL:https://www.providentins.com/webinars/glboal-assistance-services-on-call-international/
LOCATION:Virtual Webinar
CATEGORIES:Webinars
ORGANIZER;CN="Provident":MAILTO:info@providentins.com
END:VEVENT
END:VCALENDAR