BEGIN:VCALENDAR
VERSION:2.0
PRODID:-//Provident - ECPv6.15.20//NONSGML v1.0//EN
CALSCALE:GREGORIAN
METHOD:PUBLISH
X-ORIGINAL-URL:https://www.providentins.com
X-WR-CALDESC:Events for Provident
REFRESH-INTERVAL;VALUE=DURATION:PT1H
X-Robots-Tag:noindex
X-PUBLISHED-TTL:PT1H
BEGIN:VTIMEZONE
TZID:America/New_York
BEGIN:DAYLIGHT
TZOFFSETFROM:-0500
TZOFFSETTO:-0400
TZNAME:EDT
DTSTART:20240310T070000
END:DAYLIGHT
BEGIN:STANDARD
TZOFFSETFROM:-0400
TZOFFSETTO:-0500
TZNAME:EST
DTSTART:20241103T060000
END:STANDARD
BEGIN:DAYLIGHT
TZOFFSETFROM:-0500
TZOFFSETTO:-0400
TZNAME:EDT
DTSTART:20250309T070000
END:DAYLIGHT
BEGIN:STANDARD
TZOFFSETFROM:-0400
TZOFFSETTO:-0500
TZNAME:EST
DTSTART:20251102T060000
END:STANDARD
BEGIN:DAYLIGHT
TZOFFSETFROM:-0500
TZOFFSETTO:-0400
TZNAME:EDT
DTSTART:20260308T070000
END:DAYLIGHT
BEGIN:STANDARD
TZOFFSETFROM:-0400
TZOFFSETTO:-0500
TZNAME:EST
DTSTART:20261101T060000
END:STANDARD
END:VTIMEZONE
BEGIN:VEVENT
DTSTART;TZID=America/New_York:20250630T190000
DTEND;TZID=America/New_York:20250630T200000
DTSTAMP:20260425T120009
CREATED:20250506T152041Z
LAST-MODIFIED:20250506T152041Z
UID:10000041-1751310000-1751313600@www.providentins.com
SUMMARY:Conducting a Fire Apparatus Fleet Evaluation
DESCRIPTION:Join us for an insightful webinar with Mike Wilbur as he delves into the critical aspects of fleet evaluation tailored specifically for fire departments. Whether you’re a fire chief\, fleet manager\, or involved in emergency services\, this webinar will provide valuable insights to optimize your fleet’s performance and ensure readiness for any emergency. Don’t miss this opportunity to enhance your fleet management strategies! \n**All live attendees will receive a Certificate of Attendance from Provident**
URL:https://www.providentins.com/webinars/conducting-a-fire-apparatus-fleet-evaluation/
LOCATION:Virtual Webinar
CATEGORIES:Webinars
ORGANIZER;CN="Provident":MAILTO:info@providentins.com
END:VEVENT
END:VCALENDAR