BEGIN:VCALENDAR
VERSION:2.0
PRODID:-//Provident - ECPv6.15.20//NONSGML v1.0//EN
CALSCALE:GREGORIAN
METHOD:PUBLISH
X-WR-CALNAME:Provident
X-ORIGINAL-URL:https://www.providentins.com
X-WR-CALDESC:Events for Provident
REFRESH-INTERVAL;VALUE=DURATION:PT1H
X-Robots-Tag:noindex
X-PUBLISHED-TTL:PT1H
BEGIN:VTIMEZONE
TZID:America/New_York
BEGIN:DAYLIGHT
TZOFFSETFROM:-0500
TZOFFSETTO:-0400
TZNAME:EDT
DTSTART:20240310T070000
END:DAYLIGHT
BEGIN:STANDARD
TZOFFSETFROM:-0400
TZOFFSETTO:-0500
TZNAME:EST
DTSTART:20241103T060000
END:STANDARD
BEGIN:DAYLIGHT
TZOFFSETFROM:-0500
TZOFFSETTO:-0400
TZNAME:EDT
DTSTART:20250309T070000
END:DAYLIGHT
BEGIN:STANDARD
TZOFFSETFROM:-0400
TZOFFSETTO:-0500
TZNAME:EST
DTSTART:20251102T060000
END:STANDARD
BEGIN:DAYLIGHT
TZOFFSETFROM:-0500
TZOFFSETTO:-0400
TZNAME:EDT
DTSTART:20260308T070000
END:DAYLIGHT
BEGIN:STANDARD
TZOFFSETFROM:-0400
TZOFFSETTO:-0500
TZNAME:EST
DTSTART:20261101T060000
END:STANDARD
END:VTIMEZONE
BEGIN:VEVENT
DTSTART;TZID=America/New_York:20250930T190000
DTEND;TZID=America/New_York:20250930T200000
DTSTAMP:20260425T170719
CREATED:20250811T182827Z
LAST-MODIFIED:20250811T205631Z
UID:10000044-1759258800-1759262400@www.providentins.com
SUMMARY:Gaseous Powered Vehicles
DESCRIPTION:This webinar is designed for first responders and public safety professionals who need to understand the unique challenges presented by vehicles powered by compressed natural gas (CNG)\, liquefied natural gas (LNG)\, and propane. \nJim Leer will cover the essentials you need to respond safely and effectively to incidents involving these vehicles\, including: \n\nVehicle and Fuel System Recognition: Learn how to quickly identify CNG\, LNG\, and propane-powered vehicles and their fuel systems to assess the situation immediately.\nChemical and Physical Properties: Understand the distinct characteristics of each fuel type\, including their flammability\, vapor density\, and behavior in a real-world incident.\nFuel Container Design and Integrity: Gain insight into the construction and safety features of the high-pressure fuel tanks\, as well as potential failure points in a collision or fire.\nHazard Identification and Mitigation: Identify the specific hazards associated with gaseous fuels\, such as explosion\, fire\, and cryogenic burns (for LNG)\, and learn the best practices for mitigating those risks.\nIncident Response Tactics: Get an overview of proven strategies and tactical considerations for handling everything from minor leaks to large-scale emergencies\, ensuring the safety of both responders and the public. By the end of this program\, you will have a comprehensive understanding of the dangers and best practices for managing incidents involving gaseous-powered vehicles.\n\nBy the end of this program\, you will have a comprehensive understanding of the dangers and best practices for managing incidents involving gaseous-powered vehicles. \n**All live attendees will receive a Certificate of Attendance from Provident**
URL:https://www.providentins.com/webinars/gaseous-powered-vehicles/
LOCATION:Virtual Webinar
CATEGORIES:Webinars
ORGANIZER;CN="Provident":MAILTO:info@providentins.com
END:VEVENT
END:VCALENDAR